BEGIN:VCALENDAR
VERSION:2.0
PRODID:-// - ECPv6.15.20//NONSGML v1.0//EN
CALSCALE:GREGORIAN
METHOD:PUBLISH
X-ORIGINAL-URL:https://410empanadas.com
X-WR-CALDESC:Events for 
REFRESH-INTERVAL;VALUE=DURATION:PT1H
X-Robots-Tag:noindex
X-PUBLISHED-TTL:PT1H
BEGIN:VTIMEZONE
TZID:UTC
BEGIN:STANDARD
TZOFFSETFROM:+0000
TZOFFSETTO:+0000
TZNAME:UTC
DTSTART:20220101T000000
END:STANDARD
END:VTIMEZONE
BEGIN:VEVENT
DTSTART;TZID=UTC:20231006T173000
DTEND;TZID=UTC:20231006T210000
DTSTAMP:20260419T161921
CREATED:20230312T222326Z
LAST-MODIFIED:20230312T222326Z
UID:376-1696613400-1696626000@410empanadas.com
SUMMARY:First Friday
DESCRIPTION:
URL:https://410empanadas.com/event/first-friday-6/
LOCATION:First Friday
END:VEVENT
END:VCALENDAR